BEGIN:VCALENDAR
VERSION:2.0
PRODID:-//eventon.com NONSGML v1.0//EN
CALSCALE:GREGORIAN
METHOD:PUBLISH
BEGIN:VEVENT
UID:69e9fb559ee3d
DTSTAMP:20260423T105829Z
DTSTART:20191113T000000Z
DTEND:20191114T000000Z
LOCATION:NH Conference Centre Koningshof Locht 117\,  5504 RM
SUMMARY:Precisiebeurs
DESCRIPTION:Precisiebeurs\nhttps://www.metaalnieuws.nl/events/precisiebeurs
 -2/
URL:https://www.metaalnieuws.nl/events/precisiebeurs-2/
END:VEVENT
END:VCALENDAR